BEGIN:VCALENDAR
VERSION:2.0
PRODID:-//eventon.com NONSGML v1.0//EN
BEGIN:VEVENT
UID:69e739c747ab5
DTSTAMP:20260421T084807
DTSTART:20190118
DTEND:20190127
TZID:UTC
LOCATION:г.Берлин\,  Германия 
SUMMARY:Международная сельскохозяйственная выставка «Зеленая неделя»
DESCRIPTION: Международная сельскохозяйственная выставка «Зеленая неделя»\nhttps://kazsut.com/events/mezhdunarodnaya-selskohozyajstvennaya-vystavka-zelenaya-nedelya/
URL:https://kazsut.com/events/mezhdunarodnaya-selskohozyajstvennaya-vystavka-zelenaya-nedelya/
END:VEVENT
END:VCALENDAR