BEGIN:VCALENDAR
VERSION:2.0
PRODID:-//eventon.com NONSGML v1.0//EN
BEGIN:VEVENT
UID:69e4ebc6a5cc1
DTSTAMP:20260419T145046
DTSTART:20191106
DTEND:20191108
TZID:UTC
LOCATION:Алматы\,  Казахстан\,  КЦДС "Атакент" 
SUMMARY:Международная Центрально-Азиатская выставка Сельское хозяйство
DESCRIPTION: Международная Центрально-Азиатская выставка Сельское хозяйство\nhttps://kazsut.com/events/mezhdunarodnaya-tsentralno-aziatskaya-vystavka-selskoe-hozyajstvo/
URL:https://kazsut.com/events/mezhdunarodnaya-tsentralno-aziatskaya-vystavka-selskoe-hozyajstvo/
END:VEVENT
END:VCALENDAR